BEGIN:VCALENDAR
VERSION:2.0
PRODID:-//Q2E/GmbH//AT
CALSCALE:GREGORIAN
BEGIN:VEVENT
DTEND:20240711T180000Z
UID:79
DTSTAMP:20260422T164723Z
LOCATION:Prälatenhof
DESCRIPTION:
URL;VALUE=URI:https://www.stift-lilienfeld.at/besuchen/veranstaltungen/termine/amadeus-brass-und-freunde
SUMMARY:Amadeus Brass und Freunde
DTSTART:20240711T170000Z
END:VEVENT
END:VCALENDAR
