BEGIN:VCALENDAR
VERSION:2.0
PRODID:-//Q2E/GmbH//AT
CALSCALE:GREGORIAN
BEGIN:VEVENT
DTEND:20260307T210000Z
UID:725
DTSTAMP:20260421T044315Z
LOCATION:Cellarium
DESCRIPTION:
URL;VALUE=URI:https://www.stift-lilienfeld.at/besuchen/veranstaltungen/termine/bezirksmusikball
SUMMARY:Bezirksmusikball
DTSTART:20260307T200000Z
END:VEVENT
END:VCALENDAR
