BEGIN:VCALENDAR
VERSION:2.0
PRODID:-//Q2E/GmbH//AT
CALSCALE:GREGORIAN
BEGIN:VEVENT
DTEND:20231231T100000Z
UID:279
DTSTAMP:20260420T234137Z
LOCATION:Basilika
DESCRIPTION:Hl. Messe am Sonntag nach Weihnachten
URL;VALUE=URI:https://www.stift-lilienfeld.at/en/visit/events/dates-and-times/hl-messe-2023-08-31-63-63-2
SUMMARY:Hl. Messe
DTSTART:20231231T090000Z
END:VEVENT
END:VCALENDAR
